BEGIN:VCALENDAR
VERSION:2.0
PRODID:-//Tukios.com/
BEGIN:VEVENT
UID:e423495d-68ff-486a-8738-90aa46352ef5@www.shellhouseriversfuneralhome.com
DTSTAMP:20260419T210221Z
DTSTART:20260423T200000Z
DTEND:20260423T210000Z
SUMMARY:Funeral Service
DESCRIPTION:Interment will follow in Bethany Cemetery.
URL:https://www.shellhouseriversfuneralhome.com/obituaries/vivia-graham
LOCATION:Shellhouse Funeral Home 924 Hayne Avenue Southwest  Aiken SC 
	29801
GEO:33.5633047;-81.7328338
END:VEVENT
END:VCALENDAR