BEGIN:VCALENDAR
VERSION:2.0
PRODID:-//Tukios.com/
BEGIN:VEVENT
UID:0dd4e8c5-d871-4c9f-8479-4bfd9a53599e@www.shellhouseriversfuneralhome.com
DTSTAMP:20260419T205303Z
DTSTART:20260423T190000Z
DTEND:20260423T200000Z
SUMMARY:Visitation
DESCRIPTION:
URL:https://www.shellhouseriversfuneralhome.com/obituaries/vivia-graham
LOCATION:Shellhouse Funeral Home 924 Hayne Avenue Southwest  Aiken SC 
	29801
GEO:33.5633047;-81.7328338
END:VEVENT
END:VCALENDAR