BEGIN:VCALENDAR
VERSION:2.0
PRODID:-//Tukios.com/
BEGIN:VEVENT
UID:5acfe57e-a47c-4599-94c7-a25b09e0970d@www.shellhouseriversfuneralhome.com
DTSTAMP:20260423T005822Z
DTSTART:20260427T150000Z
DTEND:20260427T160000Z
SUMMARY:Graveside Service
DESCRIPTION:
URL:https://www.shellhouseriversfuneralhome.com/obituaries/ruby-prince
LOCATION: 2648 Jefferson Davis Hwy  Graniteville SC 29829
GEO:33.5275178;-81.8513466
END:VEVENT
END:VCALENDAR