BEGIN:VCALENDAR
VERSION:2.0
PRODID:-//Tukios.com/
BEGIN:VEVENT
UID:ecf7dbe8-7d71-4011-8f18-e010f4739d91@www.shellhouseriversfuneralhome.com
DTSTAMP:20260420T031757Z
DTSTART:20260510T190000Z
DTEND:20260510T200000Z
SUMMARY:Celebration of Life
DESCRIPTION:The family will receive friends in the church parlor 
	following the service.
URL:https://www.shellhouseriversfuneralhome.com/obituaries/patricia-riehl
LOCATION: 120 Chesterfield St N  Aiken SC 29801
GEO:33.5613858;-81.718151
END:VEVENT
END:VCALENDAR