BEGIN:VCALENDAR
VERSION:2.0
PRODID:-//Tukios.com/
BEGIN:VEVENT
UID:4856a5b2-700b-4bdd-b9b2-cf7db45ab802@www.shellhouseriversfuneralhome.com
DTSTAMP:20260419T231254Z
DTSTART:20260423T150000Z
DTEND:20260423T160000Z
SUMMARY:Funeral Service
DESCRIPTION:
URL:https://www.shellhouseriversfuneralhome.com/obituaries/joan-phibbs
LOCATION:St. Paul Lutheran Church 961 Trail Ridge Rd  Aiken SC 29803
GEO:33.5295168;-81.7516115
END:VEVENT
END:VCALENDAR