BEGIN:VCALENDAR
VERSION:2.0
PRODID:-//Tukios.com/
BEGIN:VEVENT
UID:a85308c3-50dd-47eb-8efd-93d3f4bfe7f6@www.shellhouseriversfuneralhome.com
DTSTAMP:20260419T231818Z
DTSTART:20260423T140000Z
DTEND:20260423T150000Z
SUMMARY:Visitation
DESCRIPTION:
URL:https://www.shellhouseriversfuneralhome.com/obituaries/joan-phibbs
LOCATION:St. Paul Lutheran Church 961 Trail Ridge Rd  Aiken SC 29803
GEO:33.5295168;-81.7516115
END:VEVENT
END:VCALENDAR