BEGIN:VCALENDAR
VERSION:2.0
PRODID:-//Tukios.com/
BEGIN:VEVENT
UID:eefe5aa6-5533-4b38-a952-3b116e3d65b7@www.shellhouseriversfuneralhome.com
DTSTAMP:20260423T005053Z
DTSTART:20260501T150000Z
DTEND:20260501T160000Z
SUMMARY:Requiem Mass
DESCRIPTION:
URL:https://www.shellhouseriversfuneralhome.com/obituaries/frederick-riel
LOCATION: 125 Park Ave SW  Aiken SC 29801
GEO:33.5583816;-81.7213015
END:VEVENT
END:VCALENDAR