BEGIN:VCALENDAR
VERSION:2.0
PRODID:-//Tukios.com/
BEGIN:VEVENT
UID:2db129e4-2389-40d9-9e95-0c9ebb4cef0c@www.shellhouseriversfuneralhome.com
DTSTAMP:20260419T231047Z
DTSTART:20260421
SUMMARY:Private Graveside Service
DESCRIPTION:
URL:https://www.shellhouseriversfuneralhome.com/obituaries/frances-weeks
LOCATION: 238 Hampton Ave NE  Aiken SC 29801
GEO:33.5700885;-81.7179348
END:VEVENT
END:VCALENDAR